BEGIN:VCALENDAR
VERSION:2.0
PRODID:-//Luca PIZZA - ECPv6.15.20//NONSGML v1.0//EN
CALSCALE:GREGORIAN
METHOD:PUBLISH
X-ORIGINAL-URL:http://www.lucapizza.de
X-WR-CALDESC:Veranstaltungen für Luca PIZZA
REFRESH-INTERVAL;VALUE=DURATION:PT1H
X-Robots-Tag:noindex
X-PUBLISHED-TTL:PT1H
BEGIN:VTIMEZONE
TZID:Europe/Rome
BEGIN:DAYLIGHT
TZOFFSETFROM:+0100
TZOFFSETTO:+0200
TZNAME:CEST
DTSTART:20250330T010000
END:DAYLIGHT
BEGIN:STANDARD
TZOFFSETFROM:+0200
TZOFFSETTO:+0100
TZNAME:CET
DTSTART:20251026T010000
END:STANDARD
BEGIN:DAYLIGHT
TZOFFSETFROM:+0100
TZOFFSETTO:+0200
TZNAME:CEST
DTSTART:20260329T010000
END:DAYLIGHT
BEGIN:STANDARD
TZOFFSETFROM:+0200
TZOFFSETTO:+0100
TZNAME:CET
DTSTART:20261025T010000
END:STANDARD
BEGIN:DAYLIGHT
TZOFFSETFROM:+0100
TZOFFSETTO:+0200
TZNAME:CEST
DTSTART:20270328T010000
END:DAYLIGHT
BEGIN:STANDARD
TZOFFSETFROM:+0200
TZOFFSETTO:+0100
TZNAME:CET
DTSTART:20271031T010000
END:STANDARD
END:VTIMEZONE
BEGIN:VEVENT
DTSTART;VALUE=DATE:20260919
DTEND;VALUE=DATE:20260920
DTSTAMP:20260422T163237
CREATED:20260223T221922Z
LAST-MODIFIED:20260320T171919Z
UID:12210-1789776000-1789862399@www.lucapizza.de
SUMMARY:Spektakel Landshut
DESCRIPTION:
URL:http://www.lucapizza.de/event/spektakel-landshut/
END:VEVENT
BEGIN:VEVENT
DTSTART;VALUE=DATE:20260920
DTEND;VALUE=DATE:20260921
DTSTAMP:20260422T163237
CREATED:20260223T221922Z
LAST-MODIFIED:20260320T171919Z
UID:12212-1789862400-1789948799@www.lucapizza.de
SUMMARY:Spektakel Landshut
DESCRIPTION:
URL:http://www.lucapizza.de/event/spektakel-landshut-3/
END:VEVENT
BEGIN:VEVENT
DTSTART;VALUE=DATE:20261013
DTEND;VALUE=DATE:20261014
DTSTAMP:20260422T163237
CREATED:20260208T094959Z
LAST-MODIFIED:20260320T171919Z
UID:11782-1791849600-1791935999@www.lucapizza.de
SUMMARY:Stadtwerke Technische Basis // 11 bis 13.30 Ihr
DESCRIPTION:
URL:http://www.lucapizza.de/event/stadtwerke-technische-basis-11-bis-13-30-ihr-9/
END:VEVENT
BEGIN:VEVENT
DTSTART;VALUE=DATE:20261110
DTEND;VALUE=DATE:20261111
DTSTAMP:20260422T163237
CREATED:20260208T094959Z
LAST-MODIFIED:20260320T171919Z
UID:11783-1794268800-1794355199@www.lucapizza.de
SUMMARY:Stadtwerke Technische Basis // 11 bis 13.30 Ihr
DESCRIPTION:
URL:http://www.lucapizza.de/event/stadtwerke-technische-basis-11-bis-13-30-ihr-10/
END:VEVENT
BEGIN:VEVENT
DTSTART;VALUE=DATE:20261208
DTEND;VALUE=DATE:20261209
DTSTAMP:20260422T163237
CREATED:20260208T095002Z
LAST-MODIFIED:20260320T171919Z
UID:11787-1796688000-1796774399@www.lucapizza.de
SUMMARY:Stadtwerke Technische Basis // 11 bis 13.30 Ihr
DESCRIPTION:
URL:http://www.lucapizza.de/event/stadtwerke-technische-basis-11-bis-13-30-ihr-11/
END:VEVENT
END:VCALENDAR