BEGIN:VCALENDAR
VERSION:2.0
PRODID:-//Luca PIZZA - ECPv6.15.20//NONSGML v1.0//EN
CALSCALE:GREGORIAN
METHOD:PUBLISH
X-WR-CALNAME:Luca PIZZA
X-ORIGINAL-URL:https://www.lucapizza.de
X-WR-CALDESC:Veranstaltungen für Luca PIZZA
REFRESH-INTERVAL;VALUE=DURATION:PT1H
X-Robots-Tag:noindex
X-PUBLISHED-TTL:PT1H
BEGIN:VTIMEZONE
TZID:Europe/Rome
BEGIN:DAYLIGHT
TZOFFSETFROM:+0100
TZOFFSETTO:+0200
TZNAME:CEST
DTSTART:20240331T010000
END:DAYLIGHT
BEGIN:STANDARD
TZOFFSETFROM:+0200
TZOFFSETTO:+0100
TZNAME:CET
DTSTART:20241027T010000
END:STANDARD
BEGIN:DAYLIGHT
TZOFFSETFROM:+0100
TZOFFSETTO:+0200
TZNAME:CEST
DTSTART:20250330T010000
END:DAYLIGHT
BEGIN:STANDARD
TZOFFSETFROM:+0200
TZOFFSETTO:+0100
TZNAME:CET
DTSTART:20251026T010000
END:STANDARD
BEGIN:DAYLIGHT
TZOFFSETFROM:+0100
TZOFFSETTO:+0200
TZNAME:CEST
DTSTART:20260329T010000
END:DAYLIGHT
BEGIN:STANDARD
TZOFFSETFROM:+0200
TZOFFSETTO:+0100
TZNAME:CET
DTSTART:20261025T010000
END:STANDARD
BEGIN:DAYLIGHT
TZOFFSETFROM:+0100
TZOFFSETTO:+0200
TZNAME:CEST
DTSTART:20270328T010000
END:DAYLIGHT
BEGIN:STANDARD
TZOFFSETFROM:+0200
TZOFFSETTO:+0100
TZNAME:CET
DTSTART:20271031T010000
END:STANDARD
END:VTIMEZONE
BEGIN:VEVENT
DTSTART;VALUE=DATE:20260414
DTEND;VALUE=DATE:20260415
DTSTAMP:20260419T160754
CREATED:20260208T084913Z
LAST-MODIFIED:20260320T171918Z
UID:11768-1776124800-1776211199@www.lucapizza.de
SUMMARY:Stadtwerke Technische Basis // 11 bis 13.30 Ihr
DESCRIPTION:
URL:https://www.lucapizza.de/event/stadtwerke-technische-basis-11-bis-13-30-ihr-3/
END:VEVENT
BEGIN:VEVENT
DTSTART;VALUE=DATE:20260310
DTEND;VALUE=DATE:20260311
DTSTAMP:20260419T160754
CREATED:20260208T084913Z
LAST-MODIFIED:20260310T231914Z
UID:11767-1773100800-1773187199@www.lucapizza.de
SUMMARY:Stadtwerke Technische Basis // 11 bis 13.30 Ihr
DESCRIPTION:
URL:https://www.lucapizza.de/event/stadtwerke-technische-basis-11-bis-13-30-ihr-2/
END:VEVENT
BEGIN:VEVENT
DTSTART;VALUE=DATE:20260226
DTEND;VALUE=DATE:20260227
DTSTAMP:20260419T160754
CREATED:20260208T104923Z
LAST-MODIFIED:20260226T231921Z
UID:11791-1772064000-1772150399@www.lucapizza.de
SUMMARY:München\, Agnes-Pockels-Bogen - Münchener Technologiezentrum // 11 bis 14 Uhr
DESCRIPTION:
URL:https://www.lucapizza.de/event/muenchen-agnes-pockels-bogen-muenchener-technologiezentrum-11-bis-14-uhr-27/
END:VEVENT
BEGIN:VEVENT
DTSTART;VALUE=DATE:20260219
DTEND;VALUE=DATE:20260220
DTSTAMP:20260419T160754
CREATED:20260208T104923Z
LAST-MODIFIED:20260219T234922Z
UID:11790-1771459200-1771545599@www.lucapizza.de
SUMMARY:München\, Agnes-Pockels-Bogen - Münchener Technologiezentrum // 11 bis 14 Uhr
DESCRIPTION:
URL:https://www.lucapizza.de/event/muenchen-agnes-pockels-bogen-muenchener-technologiezentrum-11-bis-14-uhr-26/
END:VEVENT
BEGIN:VEVENT
DTSTART;VALUE=DATE:20260212
DTEND;VALUE=DATE:20260213
DTSTAMP:20260419T160754
CREATED:20260208T104923Z
LAST-MODIFIED:20260212T230415Z
UID:11789-1770854400-1770940799@www.lucapizza.de
SUMMARY:München\, Agnes-Pockels-Bogen - Münchener Technologiezentrum // 11 bis 14 Uhr
DESCRIPTION:
URL:https://www.lucapizza.de/event/muenchen-agnes-pockels-bogen-muenchener-technologiezentrum-11-bis-14-uhr-25/
END:VEVENT
BEGIN:VEVENT
DTSTART;VALUE=DATE:20260210
DTEND;VALUE=DATE:20260211
DTSTAMP:20260419T160754
CREATED:20260208T084913Z
LAST-MODIFIED:20260210T230416Z
UID:11766-1770681600-1770767999@www.lucapizza.de
SUMMARY:Stadtwerke Technische Basis // 11 bis 13.30 Ihr
DESCRIPTION:
URL:https://www.lucapizza.de/event/stadtwerke-technische-basis-11-bis-13-30-ihr/
END:VEVENT
BEGIN:VEVENT
DTSTART;VALUE=DATE:20260108
DTEND;VALUE=DATE:20260109
DTSTAMP:20260419T160754
CREATED:20260107T203437Z
LAST-MODIFIED:20260108T234920Z
UID:10828-1767830400-1767916799@www.lucapizza.de
SUMMARY:München\, Agnes-Pockels-Bogen - Münchener Technologiezentrum // 11 bis 14 Uhr
DESCRIPTION:
URL:https://www.lucapizza.de/event/muenchen-agnes-pockels-bogen-muenchener-technologiezentrum-11-bis-14-uhr-24/
END:VEVENT
BEGIN:VEVENT
DTSTART;VALUE=DATE:20260103
DTEND;VALUE=DATE:20260104
DTSTAMP:20260419T160754
CREATED:20251220T210416Z
LAST-MODIFIED:20260103T230415Z
UID:10405-1767398400-1767484799@www.lucapizza.de
SUMMARY:RIESEN-NACHTFLOHMARKT in der Zenithhalle
DESCRIPTION:
URL:https://www.lucapizza.de/event/riesen-nachtflohmarkt-in-der-zenithhalle/
END:VEVENT
BEGIN:VEVENT
DTSTART;VALUE=DATE:20251211
DTEND;VALUE=DATE:20251212
DTSTAMP:20260419T160754
CREATED:20251204T074915Z
LAST-MODIFIED:20251211T234916Z
UID:10053-1765411200-1765497599@www.lucapizza.de
SUMMARY:München\, Agnes-Pockels-Bogen - Münchener Technologiezentrum // 11 bis 14 Uhr
DESCRIPTION:
URL:https://www.lucapizza.de/event/muenchen-agnes-pockels-bogen-muenchener-technologiezentrum-11-bis-14-uhr-23/
END:VEVENT
BEGIN:VEVENT
DTSTART;VALUE=DATE:20251210
DTEND;VALUE=DATE:20251211
DTSTAMP:20260419T160754
CREATED:20251204T074915Z
LAST-MODIFIED:20251210T231925Z
UID:10054-1765324800-1765411199@www.lucapizza.de
SUMMARY:Landshut West - Killermann Parkplatz 11  bis 14 Uhr
DESCRIPTION:
URL:https://www.lucapizza.de/event/landshut-west-killermann-parkplatz-11-bis-14-uhr-10/
END:VEVENT
BEGIN:VEVENT
DTSTART;VALUE=DATE:20251203
DTEND;VALUE=DATE:20251204
DTSTAMP:20260419T160754
CREATED:20251124T211914Z
LAST-MODIFIED:20251203T233416Z
UID:9827-1764720000-1764806399@www.lucapizza.de
SUMMARY:Landshut West - Killermann Parkplatz 11  bis 14 Uhr
DESCRIPTION:
URL:https://www.lucapizza.de/event/landshut-west-killermann-parkplatz-11-bis-14-uhr-9/
END:VEVENT
BEGIN:VEVENT
DTSTART;VALUE=DATE:20251127
DTEND;VALUE=DATE:20251128
DTSTAMP:20260419T160754
CREATED:20251124T211914Z
LAST-MODIFIED:20251127T231931Z
UID:9825-1764201600-1764287999@www.lucapizza.de
SUMMARY:München\, Agnes-Pockels-Bogen - Münchener Technologiezentrum // 11 bis 14 Uhr
DESCRIPTION:
URL:https://www.lucapizza.de/event/muenchen-agnes-pockels-bogen-muenchener-technologiezentrum-11-bis-14-uhr-22/
END:VEVENT
BEGIN:VEVENT
DTSTART;VALUE=DATE:20251126
DTEND;VALUE=DATE:20251127
DTSTAMP:20260419T160754
CREATED:20251124T211914Z
LAST-MODIFIED:20251126T231916Z
UID:9826-1764115200-1764201599@www.lucapizza.de
SUMMARY:Landshut West - Killermann Parkplatz 11  bis 14 Uhr
DESCRIPTION:
URL:https://www.lucapizza.de/event/landshut-west-killermann-parkplatz-11-bis-14-uhr-8/
END:VEVENT
BEGIN:VEVENT
DTSTART;VALUE=DATE:20251120
DTEND;VALUE=DATE:20251121
DTSTAMP:20260419T160754
CREATED:20251111T221922Z
LAST-MODIFIED:20251120T234918Z
UID:9507-1763596800-1763683199@www.lucapizza.de
SUMMARY:München\, Agnes-Pockels-Bogen - Münchener Technologiezentrum // 11 bis 14 Uhr
DESCRIPTION:
URL:https://www.lucapizza.de/event/muenchen-agnes-pockels-bogen-muenchener-technologiezentrum-11-bis-14-uhr-21/
END:VEVENT
BEGIN:VEVENT
DTSTART;VALUE=DATE:20251119
DTEND;VALUE=DATE:20251120
DTSTAMP:20260419T160754
CREATED:20251111T221922Z
LAST-MODIFIED:20251119T233415Z
UID:9506-1763510400-1763596799@www.lucapizza.de
SUMMARY:Landshut West - Killermann Parkplatz 11  bis 14 Uhr
DESCRIPTION:
URL:https://www.lucapizza.de/event/landshut-west-killermann-parkplatz-11-bis-14-uhr-7/
END:VEVENT
BEGIN:VEVENT
DTSTART;VALUE=DATE:20251113
DTEND;VALUE=DATE:20251114
DTSTAMP:20260419T160754
CREATED:20251103T211913Z
LAST-MODIFIED:20251113T234919Z
UID:9306-1762992000-1763078399@www.lucapizza.de
SUMMARY:München\, Agnes-Pockels-Bogen - Münchener Technologiezentrum // 11 bis 14 Uhr
DESCRIPTION:
URL:https://www.lucapizza.de/event/muenchen-agnes-pockels-bogen-muenchener-technologiezentrum-11-bis-14-uhr-20/
END:VEVENT
BEGIN:VEVENT
DTSTART;VALUE=DATE:20251113
DTEND;VALUE=DATE:20251114
DTSTAMP:20260419T160754
CREATED:20251103T211913Z
LAST-MODIFIED:20251103T211913Z
UID:9305-1762992000-1763078399@www.lucapizza.de
SUMMARY:München\, Agnes-Pockels-Bogen - Münchener Technologiezentrum // 11 bis 14 Uhr
DESCRIPTION:
URL:https://www.lucapizza.de/event/muenchen-agnes-pockels-bogen-muenchener-technologiezentrum-11-bis-14-uhr-19/
END:VEVENT
BEGIN:VEVENT
DTSTART;VALUE=DATE:20251112
DTEND;VALUE=DATE:20251113
DTSTAMP:20260419T160754
CREATED:20251103T211913Z
LAST-MODIFIED:20251103T211913Z
UID:9301-1762905600-1762991999@www.lucapizza.de
SUMMARY:Landshut West - Killermann Parkplatz 11  bis 14 Uhr
DESCRIPTION:
URL:https://www.lucapizza.de/event/landshut-west-killermann-parkplatz-11-bis-14-uhr-5/
END:VEVENT
BEGIN:VEVENT
DTSTART;VALUE=DATE:20251112
DTEND;VALUE=DATE:20251113
DTSTAMP:20260419T160754
CREATED:20251103T211913Z
LAST-MODIFIED:20251112T233422Z
UID:9302-1762905600-1762991999@www.lucapizza.de
SUMMARY:Landshut West - Killermann Parkplatz 11  bis 14 Uhr
DESCRIPTION:
URL:https://www.lucapizza.de/event/landshut-west-killermann-parkplatz-11-bis-14-uhr-6/
END:VEVENT
BEGIN:VEVENT
DTSTART;VALUE=DATE:20251111
DTEND;VALUE=DATE:20251112
DTSTAMP:20260419T160754
CREATED:20251103T211913Z
LAST-MODIFIED:20251103T211913Z
UID:9303-1762819200-1762905599@www.lucapizza.de
SUMMARY:Stadtwerke München - Technische Basis 11 bis 13.30 uhr
DESCRIPTION:
URL:https://www.lucapizza.de/event/stadtwerke-muenchen-technische-basis-11-bis-13-30-uhr/
END:VEVENT
BEGIN:VEVENT
DTSTART;VALUE=DATE:20251111
DTEND;VALUE=DATE:20251112
DTSTAMP:20260419T160754
CREATED:20251103T211913Z
LAST-MODIFIED:20251111T231915Z
UID:9304-1762819200-1762905599@www.lucapizza.de
SUMMARY:Stadtwerke München - Technische Basis 11 bis 13.30 uhr
DESCRIPTION:
URL:https://www.lucapizza.de/event/stadtwerke-muenchen-technische-basis-11-bis-13-30-uhr-2/
END:VEVENT
BEGIN:VEVENT
DTSTART;VALUE=DATE:20251109
DTEND;VALUE=DATE:20251110
DTSTAMP:20260419T160754
CREATED:20251026T194934Z
LAST-MODIFIED:20251109T234916Z
UID:9107-1762646400-1762732799@www.lucapizza.de
SUMMARY:KE KU KA - Fürstenfeldbruck
DESCRIPTION:
URL:https://www.lucapizza.de/event/ke-ku-ka-fuerstenfeldbruck-2/
END:VEVENT
BEGIN:VEVENT
DTSTART;VALUE=DATE:20251108
DTEND;VALUE=DATE:20251109
DTSTAMP:20260419T160754
CREATED:20250709T215921Z
LAST-MODIFIED:20251108T230419Z
UID:6442-1762560000-1762646399@www.lucapizza.de
SUMMARY:KE KU KA - Fürstenfeldbruck
DESCRIPTION:
URL:https://www.lucapizza.de/event/ke-ku-ka-fuerstenfeldbruck/
END:VEVENT
BEGIN:VEVENT
DTSTART;VALUE=DATE:20251106
DTEND;VALUE=DATE:20251107
DTSTAMP:20260419T160754
CREATED:20251102T210414Z
LAST-MODIFIED:20251106T234919Z
UID:9273-1762387200-1762473599@www.lucapizza.de
SUMMARY:München\, Agnes-Pockels-Bogen - Münchener Technologiezentrum // 11 bis 14 Uhr
DESCRIPTION:
URL:https://www.lucapizza.de/event/muenchen-agnes-pockels-bogen-muenchener-technologiezentrum-11-bis-14-uhr-18/
END:VEVENT
BEGIN:VEVENT
DTSTART;VALUE=DATE:20251105
DTEND;VALUE=DATE:20251106
DTSTAMP:20260419T160754
CREATED:20251102T210414Z
LAST-MODIFIED:20251105T230416Z
UID:9274-1762300800-1762387199@www.lucapizza.de
SUMMARY:Landshut West - Killermann Parkplatz 11  bis 14 Uhr
DESCRIPTION:
URL:https://www.lucapizza.de/event/landshut-west-killermann-parkplatz-11-bis-14-uhr-4/
END:VEVENT
BEGIN:VEVENT
DTSTART;VALUE=DATE:20251012
DTEND;VALUE=DATE:20251013
DTSTAMP:20260419T160754
CREATED:20250724T074447Z
LAST-MODIFIED:20251012T230422Z
UID:6785-1760227200-1760313599@www.lucapizza.de
SUMMARY:Verkaufsoffener Sonntag Landshut Altstadt - 12 bis 18 uhr
DESCRIPTION:
URL:https://www.lucapizza.de/event/verkaufsoffener-sonntag-landshut-altstadt-12-bis-18-uhr/
END:VEVENT
BEGIN:VEVENT
DTSTART;VALUE=DATE:20251009
DTEND;VALUE=DATE:20251010
DTSTAMP:20260419T160754
CREATED:20250930T085916Z
LAST-MODIFIED:20251009T224928Z
UID:8478-1759968000-1760054399@www.lucapizza.de
SUMMARY:München\, Agnes-Pockels-Bogen - Münchener Technologiezentrum // 11 bis 14 Uhr
DESCRIPTION:
URL:https://www.lucapizza.de/event/muenchen-agnes-pockels-bogen-muenchener-technologiezentrum-11-bis-14-uhr-17/
END:VEVENT
BEGIN:VEVENT
DTSTART;VALUE=DATE:20251005
DTEND;VALUE=DATE:20251006
DTSTAMP:20260419T160754
CREATED:20250513T211411Z
LAST-MODIFIED:20251005T235916Z
UID:5610-1759622400-1759708799@www.lucapizza.de
SUMMARY:Augsburg - Kunst & Design markt
DESCRIPTION:
URL:https://www.lucapizza.de/event/augsburg-kunst-design-markt-2/
END:VEVENT
BEGIN:VEVENT
DTSTART;VALUE=DATE:20251004
DTEND;VALUE=DATE:20251005
DTSTAMP:20260419T160754
CREATED:20250513T211411Z
LAST-MODIFIED:20251004T231410Z
UID:5609-1759536000-1759622399@www.lucapizza.de
SUMMARY:Augsburg - Kunst & Design markt
DESCRIPTION:
URL:https://www.lucapizza.de/event/augsburg-kunst-design-markt/
END:VEVENT
BEGIN:VEVENT
DTSTART;VALUE=DATE:20251002
DTEND;VALUE=DATE:20251003
DTSTAMP:20260419T160754
CREATED:20250930T085916Z
LAST-MODIFIED:20251002T232913Z
UID:8477-1759363200-1759449599@www.lucapizza.de
SUMMARY:München\, Agnes-Pockels-Bogen - Münchener Technologiezentrum // 11 bis 14 Uhr
DESCRIPTION:
URL:https://www.lucapizza.de/event/muenchen-agnes-pockels-bogen-muenchener-technologiezentrum-11-bis-14-uhr-16/
END:VEVENT
END:VCALENDAR